Workbook

Sheet 15 дс
K1: Приложение 1
C2: Объем нормативных затрат на оказание муниципальных услуг и материальных затрат из средств субвенции в дошкольных учреждениях Александровского муниципального округа на 2025 год и плановый период 2026 и 2027 годов МБДОУ "Детский сад № 15" (Приказ Министерства образования и науки Пермского края от 19.09.2025 № 26-01-06-1028 «О внесении изменений в нормативы для расчета межбюджетных трансфертов, предоставляемых из бюджета Пермского края бюджетам муниципальных образований Пермского края на 2025 год и на плановый период 2026 и 2027 годов, утвержденные приказом Министерства образования и науки Пермского края от 07 октября 2024 г. № 26-01-06-1016»)
C4: Наименование норматива по расходам бюджета ПК | E4: размер норматива | F4: в т.ч на ЗП | G4: численность | K4: сумма
G5: 1 кв | H5: 2 кв | I5: 3 кв | J5: 4 кв
C6: Расходы на обеспечение государственных гарантий реализации прав на получение общедоступного и бесплатного дошкольного образования в муниципальных дошкольных образовательных организациях и в общеобразовательных организациях в расчете на 1 ребенка в год Общеразвивающей направленности с пребыванием до 12 часов | D6: дети в возрасте до 3 лет | E6: 132690 | F6: 131545 | G6: 55 | H6: 47 | I6: 55 | J6: 50 | K6: =(G6/12*3+H6/12*3+I6/12*3+J6/12*3)*F6 -> 6807453.8
D7: дети в возрасте до 3 лет (сельская местность) | E7: 160451 | F7: 159306 | K7: =(G7/12*3+H7/12*3+I7/12*3+J7/12*3)*F7 -> 0
D8: дети в возрасте от 3 до 7 лет | E8: 90898 | F8: 89753 | G8: 178 | H8: 192 | I8: 183 | J8: 173 | K8: =(G8/12*3+H8/12*3+I8/12*3+J8/12*3)*F8 -> 16290170
D9: дети в возрасте от 3 до 7 лет (сельская местность) | E9: 110937 | F9: 109792 | K9: =(G9/12*3+H9/12*3+I9/12*3+J9/12*3)*F9 -> 0
C10: Расходы на обеспечение государственных гарантий реализации прав на получение общедоступного и бесплатного дошкольного образования в муниципальных дошкольных образовательных организациях, структурных подразделениях муниципальных дошкольных образовательных организаций, с численностью менее 110 воспитанников в расчете на 1 ребенка в год Общеразвивающей направленности с пребыванием до 12 часов | D10: дети в возрасте до 3 лет | E10: 158733 | F10: 157588 | K10: =(G10/12*3+H10/12*3+I10/12*3+J10/12*3)*F10 -> 0
D11: дети в возрасте от 3 до 7 лет | E11: 108673 | F11: 107528 | K11: =(G11/12*3+H11/12*3+I11/12*3+J11/12*3)*F11 -> 0
C12: Расходы на обеспечение государственных гарантий реализации прав на получение общедоступного и бесплатного дошкольного образования в муниципальных дошкольных образовательных организациях и в общеобразовательных организациях в расчете на 1 ребенка в год Компенсирующей направленности с ОВЗ с пребыванием до 12 часов | D12: дети в возрасте до 3 лет | E12: 214757 | F12: 213612 | K12: =(G12/12*3+H12/12*3+I12/12*3+J12/12*3)*F12 -> 0
D13: дети в возрасте от 3 до 7 лет | E13: 191685 | F13: 190540 | G13: 11 | H13: 11 | I13: 9 | J13: 7 | K13: =(G13/12*3+H13/12*3+I13/12*3+J13/12*3)*F13 -> 1810130
C14: Расходы на предоставление государственных гарантий на получение общедоступного бесплатного начального, основного, среднего общего образования обучающимися в образовательных организациях на дому по медицинским заключениям в расчете на 1 обучающегося в год | D14: начальное общее образование | K14: =F14*G14 -> 0
D15: основное общее образование | K15: =F15*G15 -> 0
D16: среднее общее образование | K16: =F16*G16 -> 0
C17: Расходы на предоставление государственных гарантий на получение общедоступного бесплатного начального, основного, среднего общего образования в общеобразовательных организациях для обучающихся с ограниченными возможностями здоровья в классах совместно с другими обучающимися | D17: нач.общ.образ. Город | K17: =F17*G17 -> 0
D18: нач.общ.образ. Село | K18: =F18*G18 -> 0
D19: осн.общ.образ. Город | K19: =F19*G19 -> 0
D20: осн.общ.образ. Село | K20: =F20*G20 -> 0
D21: сред. Общ. Образ.город | K21: =F21*G21 -> 0
C22: Расходы на предоставление государственных гарантий на получение общедоступного бесплатного начального, основного, среднего общего образования в общеобразовательных организациях для обучающихся с расстройствами аутистического спектра в классах совместно с другими обучающимися | K22: =F22*G22 -> 0
C23: ИТОГО ФОТ | G23: =SUM(G6:G22) -> 244 | H23: =SUM(H6:H22) -> 250 | I23: =SUM(I6:I22) -> 247 | J23: =SUM(J6:J22) -> 230 | K23: =SUM(K6:K22) -> 24907753
C24: Материальные затраты | F24: =E6-F6 -> 1145 | G24: =G23 -> 244 | H24: =H23 -> 250 | I24: =I23 -> 247 | J24: =J23 -> 230 | K24: =(G24/12*3+H24/12*3+I24/12*3+J24/12*3)*F24 -> 277948.75
C25: ИТОГО | K25: =K23+K24 -> 25185702
C26: Дополнительное финансирование по критерию "малокомплектность" | K26: 6459306
C27: администрирование | F27: 0.0243 | K27: 602321
C28: Лимиты учреждения на 2025 г | K28: =K25+K26-K27 -> 31042687
C29: в том числе доп.фин-е по критерию "малокомплектность" | K29: 0
C30: Лимиты 2025г первоначально | K30: 25817207
C32: отклонение | K32: =K28-K30 -> 5225480

Sheet 16 дс
K1: Приложение 2
C2: Объем нормативных затрат на оказание муниципальных услуг и материальных затрат из средств субвенции в дошкольных учреждениях Александровского муниципального округа на 2025 год и плановый период 2026 и 2027 годов МБДОУ "Детский сад № 16" (Приказ Министерства образования и науки Пермского края от 19.09.2025 № 26-01-06-1028 "О внесении изменений в нормативы для расчета межбюджетных трансфертов, предоставляемых из бюджета Пермского края бюджетам муниципальных образований Пермского края на 2025 год и плановый период 2026 и 2027 годов, утвержденные приказом Министерства образования и науки Пермского края от 07 октября 2024 г № 26-01-06-1016")
C4: Наименование норматива по расходам бюджета ПК | E4: размер норматива | F4: в т.ч на ЗП | G4: численность | K4: сумма
G5: 1 кв | H5: 2 кв | I5: 3 кв | J5: 4 кв
C6: Расходы на обеспечение государственных гарантий реализации прав на получение общедоступного и бесплатного дошкольного образования в муниципальных дошкольных образовательных организациях и в общеобразовательных организациях в расчете на 1 ребенка в год Общеразвивающей направленности с пребыванием до 12 часов | D6: дети в возрасте до 3 лет | E6: ='15 дс'!E6 -> 132690 | F6: ='15 дс'!F6 -> 131545 | G6: 82 | H6: 71 | I6: 87 | J6: 83 | K6: =(G6/12*3+H6/12*3+I6/12*3+J6/12*3)*F6 -> 10622259
D7: дети в возрасте до 3 лет (сельская местность) | E7: ='15 дс'!E7 -> 160451 | F7: ='15 дс'!F7 -> 159306 | G7: 2 | H7: 1 | I7: 2 | J7: 2 | K7: =(G7/12*3+H7/12*3+I7/12*3+J7/12*3)*F7 -> 278785.5
D8: дети в возрасте от 3 до 7 лет | E8: ='15 дс'!E8 -> 90898 | F8: ='15 дс'!F8 -> 89753 | G8: 197 | H8: 208 | I8: 170 | J8: 162 | K8: =(G8/12*3+H8/12*3+I8/12*3+J8/12*3)*F8 -> 16536990
D9: дети в возрасте от 3 до 7 лет (сельская местность) | E9: ='15 дс'!E9 -> 110937 | F9: ='15 дс'!F9 -> 109792 | G9: 10 | H9: 11 | I9: 11 | J9: 11 | K9: =(G9/12*3+H9/12*3+I9/12*3+J9/12*3)*F9 -> 1180264
C10: Расходы на обеспечение государственных гарантий реализации прав на получение общедоступного и бесплатного дошкольного образования в муниципальных дошкольных образовательных организациях, структурных подразделениях муниципальных дошкольных образовательных организаций, с численностью менее 110 воспитанников в расчете на 1 ребенка в год Общеразвивающей направленности с пребыванием до 12 часов | D10: дети в возрасте до 3 лет | E10: ='15 дс'!E10 -> 158733 | F10: ='15 дс'!F10 -> 157588 | K10: =(G10/12*3+H10/12*3+I10/12*3+J10/12*3)*F10 -> 0
D11: дети в возрасте от 3 до 7 лет | E11: ='15 дс'!E11 -> 108673 | F11: ='15 дс'!F11 -> 107528 | K11: =(G11/12*3+H11/12*3+I11/12*3+J11/12*3)*F11 -> 0
C12: Расходы на обеспечение государственных гарантий реализации прав на получение общедоступного и бесплатного дошкольного образования в муниципальных дошкольных образовательных организациях и в общеобразовательных организациях в расчете на 1 ребенка в год Компенсирующей направленности с ОВЗ с пребыванием до 12 часов | D12: дети в возрасте до 3 лет | E12: ='15 дс'!E12 -> 214757 | F12: ='15 дс'!F12 -> 213612 | K12: =(G12/12*3+H12/12*3+I12/12*3+J12/12*3)*F12 -> 0
D13: дети в возрасте от 3 до 7 лет | E13: ='15 дс'!E13 -> 191685 | F13: ='15 дс'!F13 -> 190540 | G13: 3 | H13: 6 | I13: 6 | J13: 12 | K13: =(G13/12*3+H13/12*3+I13/12*3+J13/12*3)*F13 -> 1286145
C14: Расходы на предоставление государственных гарантий на получение общедоступного бесплатного начального, основного, среднего общего образования обучающимися в образовательных организациях на дому по медицинским заключениям в расчете на 1 обучающегося в год | D14: начальное общее образование | K14: =F14*G14 -> 0
D15: основное общее образование | K15: =F15*G15 -> 0
D16: среднее общее образование | K16: =F16*G16 -> 0
C17: Расходы на предоставление государственных гарантий на получение общедоступного бесплатного начального, основного, среднего общего образования в общеобразовательных организациях для обучающихся с ограниченными возможностями здоровья в классах совместно с другими обучающимися | D17: нач.общ.образ. Город | K17: =F17*G17 -> 0
D18: нач.общ.образ. Село | K18: =F18*G18 -> 0
D19: осн.общ.образ. Город | K19: =F19*G19 -> 0
D20: осн.общ.образ. Село | K20: =F20*G20 -> 0
D21: сред. Общ. Образ.город | K21: =F21*G21 -> 0
C22: Расходы на предоставление государственных гарантий на получение общедоступного бесплатного начального, основного, среднего общего образования в общеобразовательных организациях для обучающихся с расстройствами аутистического спектра в классах совместно с другими обучающимися | K22: =F22*G22 -> 0
C23: ИТОГО ФОТ | G23: =SUM(G6:G22) -> 294 | H23: =SUM(H6:H22) -> 297 | I23: =SUM(I6:I22) -> 276 | J23: =SUM(J6:J22) -> 270 | K23: =SUM(K6:K22) -> 29904444
C24: Материальные затраты | F24: =E6-F6 -> 1145 | G24: =G23 -> 294 | H24: =H23 -> 297 | I24: =I23 -> 276 | J24: =J23 -> 270 | K24: =(G24/12*3+H24/12*3+I24/12*3+J24/12*3)*F24 -> 325466.25
C25: ИТОГО | K25: =K23+K24 -> 30229910
C26: Дополнительное финансирование по критерию "малокомплектность" | K26: 5737622
C27: администрирование | F27: 0.0243 | K27: 704737
C28: Лимиты учреждения на 2025 г | K28: =K25+K26-K27 -> 35262795
C29: в том числе доп.фин-е по критерию "малокомплектность" | K29: 0
C30: Лимиты 2025г первоначально | K30: 30347329
C31: в том числе доп.фин-е по критерию "малокомплектность"
C32: отклонение | K32: =K28-K30 -> 4915465.8

Sheet 19 дс
K1: Приложение 3
C2: Объем нормативных затрат на оказание муниципальных услуг и материальных затрат из средств субвенции в дошкольных учреждениях Александровского муниципального округа на 2025 год и плановый период 2026 и 2027 годов МБДОУ "Детский сад № 19" (Приказ Министерства образования и науки Пермского края от 19.09.2025 № 26-01-06-1028 «О внесении изменений в нормативы для расчета межбюджетных трансфертов, предоставляемых из бюджета Пермского края бюджетам муниципальных образований Пермского края на 2025 год и на плановый период 2026 и 2027 годов, утвержденные приказом Министерства образования и науки Пермского края от 07 октября 2024 г. № 26-01-06-1016»)
C4: Наименование норматива по расходам бюджета ПК | E4: размер норматива | F4: в т.ч на ЗП | G4: численность | K4: сумма
G5: 1 кв | H5: 2 кв | I5: 3 кв | J5: 4 кв
C6: Расходы на обеспечение государственных гарантий реализации прав на получение общедоступного и бесплатного дошкольного образования в муниципальных дошкольных образовательных организациях и в общеобразовательных организациях в расчете на 1 ребенка в год Общеразвивающей направленности с пребыванием до 12 часов | D6: дети в возрасте до 3 лет | E6: ='15 дс'!E6 -> 132690 | F6: ='15 дс'!F6 -> 131545 | G6: 43 | H6: 36 | I6: 40 | J6: 43 | K6: =(G6/12*3+H6/12*3+I6/12*3+J6/12*3)*F6 -> 5327572.5
D7: дети в возрасте до 3 лет (сельская местность | E7: ='15 дс'!E7 -> 160451 | F7: ='15 дс'!F7 -> 159306 | K7: =(G7/12*3+H7/12*3+I7/12*3+J7/12*3)*F7 -> 0
D8: дети в возрасте от 3 до 7 лет | E8: ='15 дс'!E8 -> 90898 | F8: ='15 дс'!F8 -> 89753 | G8: 164 | H8: 171 | I8: 136 | J8: 130 | K8: =(G8/12*3+H8/12*3+I8/12*3+J8/12*3)*F8 -> 13485388
D9: дети в возрасте от 3 до 7 лет (сельская местность) | E9: ='15 дс'!E9 -> 110937 | F9: ='15 дс'!F9 -> 109792 | K9: =(G9/12*3+H9/12*3+I9/12*3+J9/12*3)*F9 -> 0
C10: Расходы на обеспечение государственных гарантий реализации прав на получение общедоступного и бесплатного дошкольного образования в муниципальных дошкольных образовательных организациях, структурных подразделениях муниципальных дошкольных образовательных организаций, с численностью менее 110 воспитанников в расчете на 1 ребенка в год Общеразвивающей направленности с пребыванием до 12 часов | D10: дети в возрасте до 3 лет | E10: ='15 дс'!E10 -> 158733 | F10: ='15 дс'!F10 -> 157588 | K10: =(G10/12*3+H10/12*3+I10/12*3+J10/12*3)*F10 -> 0
D11: дети в возрасте от 3 до 7 лет | E11: ='15 дс'!E11 -> 108673 | F11: ='15 дс'!F11 -> 107528 | K11: =(G11/12*3+H11/12*3+I11/12*3+J11/12*3)*F11 -> 0
C12: Расходы на обеспечение государственных гарантий реализации прав на получение общедоступного и бесплатного дошкольного образования в муниципальных дошкольных образовательных организациях и в общеобразовательных организациях в расчете на 1 ребенка в год Компенсирующей направленности с ОВЗ с пребыванием до 12 часов | D12: дети в возрасте до 3 лет | E12: ='15 дс'!E12 -> 214757 | F12: ='15 дс'!F12 -> 213612 | K12: =(G12/12*3+H12/12*3+I12/12*3+J12/12*3)*F12 -> 0
D13: дети в возрасте от 3 до 7 лет | E13: ='15 дс'!E13 -> 191685 | F13: ='15 дс'!F13 -> 190540 | G13: 8 | H13: 5 | I13: 5 | J13: 5 | K13: =(G13/12*3+H13/12*3+I13/12*3+J13/12*3)*F13 -> 1095605
C14: Расходы на предоставление государственных гарантий на получение общедоступного бесплатного начального, основного, среднего общего образования обучающимися в образовательных организациях на дому по медицинским заключениям в расчете на 1 обучающегося в год | D14: начальное общее образование | K14: =F14*G14 -> 0
D15: основное общее образование | K15: =F15*G15 -> 0
D16: среднее общее образование | K16: =F16*G16 -> 0
C17: Расходы на предоставление государственных гарантий на получение общедоступного бесплатного начального, основного, среднего общего образования в общеобразовательных организациях для обучающихся с ограниченными возможностями здоровья в классах совместно с другими обучающимися | D17: нач.общ.образ. Город | K17: =F17*G17 -> 0
D18: нач.общ.образ. Село | K18: =F18*G18 -> 0
D19: осн.общ.образ. Город | K19: =F19*G19 -> 0
D20: осн.общ.образ. Село | K20: =F20*G20 -> 0
D21: сред. Общ. Образ.город | K21: =F21*G21 -> 0
C22: Расходы на предоставление государственных гарантий на получение общедоступного бесплатного начального, основного, среднего общего образования в общеобразовательных организациях для обучающихся с расстройствами аутистического спектра в классах совместно с другими обучающимися | K22: =F22*G22 -> 0
C23: ИТОГО ФОТ | G23: =SUM(G6:G22) -> 215 | H23: =SUM(H6:H22) -> 212 | I23: =SUM(I6:I22) -> 181 | J23: =SUM(J6:J22) -> 178 | K23: =SUM(K6:K22) -> 19908566
C24: Материальные затраты | F24: =E6-F6 -> 1145 | G24: =G23 -> 215 | H24: =H23 -> 212 | I24: =I23 -> 181 | J24: =J23 -> 178 | K24: =(G24/12*3+H24/12*3+I24/12*3+J24/12*3)*F24 -> 224992.5
C25: ИТОГО | K25: =K23+K24 -> 20133558
C26: Дополнительное финансирование по критерию "малокомплектность" | K26: 2757238
C27: администрирование | F27: 0.0243 | K27: 616236
C28: Лимиты учреждения на 2025 г | K28: =K25+K26 -> 22890796
C29: в том числе доп.фин-е по критерию "малокомплектность" | K29: 0
C30: Лимиты 2025 г первоначально | K30: 24743264
C31: в том числе доп.фин-е по критерию "малокомплектность"
C32: отклонение | K32: =K28-K30 -> -1852467.8

Sheet 23 дс
K1: Приложение 4
C2: Объем нормативных затрат на оказание муниципальных услуг и материальных затрат из средств субвенции в дошкольных учреждениях Александровского муниципального округа на 2025 год и плановый период 2026 и 2027 годов МБДОУ "Детский сад № 23" (Приказ Министерства образования и науки Пермского края от 19.09.2025 № 26-01-06-1028 «О внесении изменений в нормативы для расчета межбюджетных трансфертов, предоставляемых из бюджета Пермского края бюджетам муниципальных образований Пермского края на 2025 год и на плановый период 2026 и 2027 годов, утвержденные приказом Министерства образования и науки Пермского края от 07 октября 2024 г. № 26-01-06-1016»)
C4: Наименование норматива по расходам бюджета ПК | E4: размер норматива | F4: в т.ч на ЗП | G4: численность | K4: сумма
G5: 1 кв | H5: 2 кв | I5: 3 кв | J5: 4 кв
C6: Расходы на обеспечение государственных гарантий реализации прав на получение общедоступного и бесплатного дошкольного образования в муниципальных дошкольных образовательных организациях и в общеобразовательных организациях в расчете на 1 ребенка в год Общеразвивающей направленности с пребыванием до 12 часов | D6: дети в возрасте до 3 лет | E6: ='15 дс'!E6 -> 132690 | F6: ='15 дс'!F6 -> 131545 | G6: 55 | H6: 41 | I6: 70 | J6: 64 | K6: =(G6/12*3+H6/12*3+I6/12*3+J6/12*3)*F6 -> 7563837.5
D7: дети в возрасте до 3 лет (сельская местность) | E7: ='15 дс'!E7 -> 160451 | F7: ='15 дс'!F7 -> 159306 | K7: =(G7/12*3+H7/12*3+I7/12*3+J7/12*3)*F7 -> 0
D8: дети в возрасте от 3 до 7 лет | E8: ='15 дс'!E8 -> 90898 | F8: ='15 дс'!F8 -> 89753 | G8: 155 | H8: 160 | I8: 129 | J8: 125 | K8: =(G8/12*3+H8/12*3+I8/12*3+J8/12*3)*F8 -> 12767364
D9: дети в возрасте от 3 до 7 лет (сельская местность) | E9: ='15 дс'!E9 -> 110937 | F9: ='15 дс'!F9 -> 109792 | K9: =(G9/12*3+H9/12*3+I9/12*3+J9/12*3)*F9 -> 0
C10: Расходы на обеспечение государственных гарантий реализации прав на получение общедоступного и бесплатного дошкольного образования в муниципальных дошкольных образовательных организациях, структурных подразделениях муниципальных дошкольных образовательных организаций, с численностью менее 110 воспитанников в расчете на 1 ребенка в год Общеразвивающей направленности с пребыванием до 12 часов | D10: дети в возрасте до 3 лет | E10: ='15 дс'!E10 -> 158733 | F10: ='15 дс'!F10 -> 157588 | K10: =(G10/12*3+H10/12*3+I10/12*3+J10/12*3)*F10 -> 0
D11: дети в возрасте от 3 до 7 лет | E11: ='15 дс'!E11 -> 108673 | F11: ='15 дс'!F11 -> 107528 | K11: =(G11/12*3+H11/12*3+I11/12*3+J11/12*3)*F11 -> 0
C12: Расходы на обеспечение государственных гарантий реализации прав на получение общедоступного и бесплатного дошкольного образования в муниципальных дошкольных образовательных организациях и в общеобразовательных организациях в расчете на 1 ребенка в год Компенсирующей направленности с ОВЗ с пребыванием до 12 часов | D12: дети в возрасте до 3 лет | E12: ='15 дс'!E12 -> 214757 | F12: ='15 дс'!F12 -> 213612 | K12: =(G12/12*3+H12/12*3+I12/12*3+J12/12*3)*F12 -> 0
D13: дети в возрасте от 3 до 7 лет | E13: ='15 дс'!E13 -> 191685 | F13: ='15 дс'!F13 -> 190540 | G13: 5 | H13: 5 | I13: 9 | J13: 10 | K13: =(G13/12*3+H13/12*3+I13/12*3+J13/12*3)*F13 -> 1381415
C14: Расходы на предоставление государственных гарантий на получение общедоступного бесплатного начального, основного, среднего общего образования обучающимися в образовательных организациях на дому по медицинским заключениям в расчете на 1 обучающегося в год | D14: начальное общее образование | K14: =F14*G14 -> 0
D15: основное общее образование | K15: =F15*G15 -> 0
D16: среднее общее образование | K16: =F16*G16 -> 0
C17: Расходы на предоставление государственных гарантий на получение общедоступного бесплатного начального, основного, среднего общего образования в общеобразовательных организациях для обучающихся с ограниченными возможностями здоровья в классах совместно с другими обучающимися | D17: нач.общ.образ. Город | K17: =F17*G17 -> 0
D18: нач.общ.образ. Село | K18: =F18*G18 -> 0
D19: осн.общ.образ. Город | K19: =F19*G19 -> 0
D20: осн.общ.образ. Село | K20: =F20*G20 -> 0
D21: сред. Общ. Образ.город | K21: =F21*G21 -> 0
C22: Расходы на предоставление государственных гарантий на получение общедоступного бесплатного начального, основного, среднего общего образования в общеобразовательных организациях для обучающихся с расстройствами аутистического спектра в классах совместно с другими обучающимися | K22: =F22*G22 -> 0
C23: ИТОГО ФОТ | G23: =SUM(G6:G22) -> 215 | H23: =SUM(H6:H22) -> 206 | I23: =SUM(I6:I22) -> 208 | J23: =SUM(J6:J22) -> 199 | K23: =SUM(K6:K22) -> 21712617
C24: Материальные затраты | F24: =E6-F6 -> 1145 | G24: =G23 -> 215 | H24: =H23 -> 206 | I24: =I23 -> 208 | J24: =J23 -> 199 | K24: =(G24/12*3+H24/12*3+I24/12*3+J24/12*3)*F24 -> 237015
C25: ИТОГО | K25: =K23+K24 -> 21949632
C26: Дополнительное финансирование по критерию "малокомплектность" | K26: 3394041
C27: администрирование | F27: 0.0243 | K27: 483082
C28: Лимиты учреждения на 2025 г | K28: =K25+K26 -> 25343673
C29: в том числе доп.фин-е по критерию "малокомплектность" | K29: 0
C30: Лимиты 2025 г первоначально | K30: 19396857
C31: в том числе доп.фин-е по критерию "малокомплектность"
C32: отклонение | K32: =K28-K30 -> 5946815.8

Sheet 30 дс
K1: Приложение 5
C2: Объем нормативных затрат на оказание муниципальных услуг и материальных затрат из средств субвенции в дошкольных учреждениях Александровского муниципального округа на 2025 год и плановый период 2026 и 2027 годов МБДОУ "Детский сад № 30" (Приказ Министерства образования и науки Пермского края от 19.09.2025 № 26-01-06-1028 «О внесении изменений в нормативы для расчета межбюджетных трансфертов, предоставляемых из бюджета Пермского края бюджетам муниципальных образований Пермского края на 2025 год и на плановый период 2026 и 2027 годов, утвержденные приказом Министерства образования и науки Пермского края от 07 октября 2024 г. № 26-01-06-1016»)
C4: Наименование норматива по расходам бюджета ПК | E4: размер норматива | F4: в т.ч на ЗП | G4: численность | K4: сумма
G5: 1 кв | H5: 2 кв | I5: 3 кв | J5: 4 кв
C6: Расходы на обеспечение государственных гарантий реализации прав на получение общедоступного и бесплатного дошкольного образования в муниципальных дошкольных образовательных организациях и в общеобразовательных организациях в расчете на 1 ребенка в год Общеразвивающей направленности с пребыванием до 12 часов | D6: дети в возрасте до 3 лет | E6: ='16 дс'!E6 -> 132690 | F6: ='16 дс'!F6 -> 131545 | G6: 16 | H6: 12 | I6: 22 | J6: 19 | K6: =(G6/12*3+H6/12*3+I6/12*3+J6/12*3)*F6 -> 2269151.2
D7: дети в возрасте до 3 лет (сельская местность) | E7: ='16 дс'!E7 -> 160451 | F7: ='16 дс'!F7 -> 159306 | G7: 12 | H7: 10 | I7: 10 | J7: 6 | K7: =(G7/12*3+H7/12*3+I7/12*3+J7/12*3)*F7 -> 1513407
D8: дети в возрасте от 3 до 7 лет | E8: ='16 дс'!E8 -> 90898 | F8: ='16 дс'!F8 -> 89753 | G8: 70 | H8: 66 | I8: 53 | J8: 58 | K8: =(G8/12*3+H8/12*3+I8/12*3+J8/12*3)*F8 -> 5542247.8
D9: дети в возрасте от 3 до 7 лет (сельская местность) | E9: ='16 дс'!E9 -> 110937 | F9: ='16 дс'!F9 -> 109792 | G9: 26 | H9: 29 | I9: 26 | J9: 30 | K9: =(G9/12*3+H9/12*3+I9/12*3+J9/12*3)*F9 -> 3046728
C10: Расходы на обеспечение государственных гарантий реализации прав на получение общедоступного и бесплатного дошкольного образования в муниципальных дошкольных образовательных организациях, структурных подразделениях муниципальных дошкольных образовательных организаций, с численностью менее 110 воспитанников в расчете на 1 ребенка в год Общеразвивающей направленности с пребыванием до 12 часов | D10: дети в возрасте до 3 лет | E10: ='16 дс'!E10 -> 158733 | F10: ='16 дс'!F10 -> 157588 | K10: =(G10/12*3+H10/12*3+I10/12*3+J10/12*3)*F10 -> 0
D11: дети в возрасте от 3 до 7 лет | E11: ='16 дс'!E11 -> 108673 | F11: ='16 дс'!F11 -> 107528 | K11: =(G11/12*3+H11/12*3+I11/12*3+J11/12*3)*F11 -> 0
C12: Расходы на обеспечение государственных гарантий реализации прав на получение общедоступного и бесплатного дошкольного образования в муниципальных дошкольных образовательных организациях и в общеобразовательных организациях в расчете на 1 ребенка в год Компенсирующей направленности с ОВЗ с пребыванием до 12 часов | D12: дети в возрасте до 3 лет | E12: ='16 дс'!E12 -> 214757 | F12: ='16 дс'!F12 -> 213612 | K12: =(G12/12*3+H12/12*3+I12/12*3+J12/12*3)*F12 -> 0
D13: дети в возрасте от 3 до 7 лет | E13: ='16 дс'!E13 -> 191685 | F13: ='16 дс'!F13 -> 190540 | G13: 1 | H13: 1 | I13: 2 | J13: 1 | K13: =(G13/12*3+H13/12*3+I13/12*3+J13/12*3)*F13 -> 238175
D14: дети в возрасте от 3 до 7 лет (сельская местность) | E14: 240956 | F14: 239811 | I14: 1 | J14: 1 | K14: =(G14/12*3+H14/12*3+I14/12*3+J14/12*3)*F14 -> 119905.5
C15: Расходы на предоставление государственных гарантий на получение общедоступного бесплатного начального, основного, среднего общего образования обучающимися в образовательных организациях на дому по медицинским заключениям в расчете на 1 обучающегося в год | D15: начальное общее образование | K15: =F15*G15 -> 0
D16: основное общее образование | K16: =F16*G16 -> 0
D17: среднее общее образование | K17: =F17*G17 -> 0
C18: Расходы на предоставление государственных гарантий на получение общедоступного бесплатного начального, основного, среднего общего образования в общеобразовательных организациях для обучающихся с ограниченными возможностями здоровья в классах совместно с другими обучающимися | D18: нач.общ.образ. Город | K18: =F18*G18 -> 0
D19: нач.общ.образ. Село | K19: =F19*G19 -> 0
D20: осн.общ.образ. Город | K20: =F20*G20 -> 0
D21: осн.общ.образ. Село | K21: =F21*G21 -> 0
D22: сред. Общ. Образ.город | K22: =F22*G22 -> 0
C23: Расходы на предоставление государственных гарантий на получение общедоступного бесплатного начального, основного, среднего общего образования в общеобразовательных организациях для обучающихся с расстройствами аутистического спектра в классах совместно с другими обучающимися | K23: =F23*G23 -> 0
C24: ИТОГО ФОТ | G24: =SUM(G6:G23) -> 125 | H24: =SUM(H6:H23) -> 118 | I24: =SUM(I6:I23) -> 114 | J24: =SUM(J6:J23) -> 115 | K24: =SUM(K6:K23)-1 -> 12729614
C25: Материальные затраты | F25: =E6-F6 -> 1145 | G25: =G24 -> 125 | H25: =H24 -> 118 | I25: =I24 -> 114 | J25: =J24 -> 115 | K25: =(G25/12*3+H25/12*3+I25/12*3+J25/12*3)*F25 -> 135110
C26: ИТОГО | K26: =K24+K25 -> 12864724
C27: Дополнительное финансирование по критерию "малокомплектность" | K27: 4561066
C28: администрирование | F28: 0.0243 | K28: 346108
C29: Лимиты учреждения на 2025 г | K29: =K26+K27 -> 17425790
C30: в том числе доп.фин-е по критерию "малокомплектность" | K30: 0
C31: Лимиты 2025 г первоначально | K31: 13897012
C32: в том числе доп.фин-е по критерию "малокомплектность"
C33: отклонение | K33: =K29-K31 -> 3528777.5
